BEGIN:VCALENDAR
VERSION:2.0
PRODID:-//eventon.com NONSGML v1.0//EN
CALSCALE:GREGORIAN
METHOD:PUBLISH
BEGIN:VEVENT
UID:69eba9310d77e
DTSTAMP:20260424T173233Z
DTSTART:20260704T183000Z
DTEND:20260704T210000Z
LOCATION:The Assumption of Blessed Mary &amp; St Nicholas High St\,  Etchingham TN19 7AW
SUMMARY:The Dime Notes
DESCRIPTION:The Dime Notes return to Etchingham Music Festival https://etch
 inghammusicfestival.co.ukhttps://lejazzetal.com/the-dime-notes/ SAM WATTS â
 €“ PIANODAVID HORNIBLOW â€“ CLARINETDAVE KELBIE â€“ GUITARMARK ELTON &#8211
 ; BASS\nhttps://lejazzetal.com/events/the-dime-notes-etchingham/
URL:https://lejazzetal.com/events/the-dime-notes-etchingham/
END:VEVENT
END:VCALENDAR