BEGIN:VCALENDAR
VERSION:2.0
PRODID:-//eventon.com NONSGML v1.0//EN
CALSCALE:GREGORIAN
METHOD:PUBLISH
BEGIN:VEVENT
UID:69eba8d452581
DTSTAMP:20260424T173100Z
DTSTART:20260618T110000Z
DTEND:20260618T140000Z
LOCATION:Phyllis Court\,  Henley UK
SUMMARY:The Dime Notes
DESCRIPTION:The Dime Notes return to Phyllis Court https://www.phylliscourt
 .co.uk/https://lejazzetal.com/the-dime-notes/ SAM WATTS – PIANODAVID HORN
 IBLOW – CLARINETDAVE KELBIE – GUITARMARK ELTON &#8211; BASS\nhttps://le
 jazzetal.com/events/the-dime-notes-phyllis-court/
URL:https://lejazzetal.com/events/the-dime-notes-phyllis-court/
END:VEVENT
END:VCALENDAR