BEGIN:VCALENDAR
VERSION:2.0
PRODID:-//eventon.com NONSGML v1.0//EN
CALSCALE:GREGORIAN
METHOD:PUBLISH
BEGIN:VEVENT
UID:69eba70389910
DTSTAMP:20260424T172315Z
DTSTART:20260618T180000Z
DTEND:20260618T200000Z
LOCATION:Phyllis Court\,  Henley UK
SUMMARY:The Dime Notes
DESCRIPTION:The Dime Notes return to Phyllis Court https://www.phylliscourt
 .co.uk/https://lejazzetal.com/the-dime-notes/ SAM WATTS – PIANODAVID HORN
 IBLOW – CLARINETDAVE KELBIE – GUITARMARK ELTON &#8211; BASS\nhttps://le
 jazzetal.com/events/the-dime-notes-2/
URL:https://lejazzetal.com/events/the-dime-notes-2/
END:VEVENT
END:VCALENDAR