BEGIN:VCALENDAR
VERSION:2.0
PRODID:-//eventon.com NONSGML v1.0//EN
CALSCALE:GREGORIAN
METHOD:PUBLISH
BEGIN:VEVENT
UID:69eba9311c0de
DTSTAMP:20260424T173233Z
DTSTART:20260911T190000Z
DTEND:20260911T210000Z
LOCATION:Frant Church\,  Frant UK High Street\,  Frant\,  East Sussex TN3 9DX
SUMMARY:The Dime Notes
DESCRIPTION:The Dime Notes return to Frant https://frantchurch.org/Groups/3
 83230/Concerts.aspxhttps://lejazzetal.com/the-dime-notes/ SAM WATTS – PIA
 NODAVID HORNIBLOW – CLARINETDAVE KELBIE – GUITARMARK ELTON &#8211; BASS
 \nhttps://lejazzetal.com/events/the-dime-notes-frant/
URL:https://lejazzetal.com/events/the-dime-notes-frant/
END:VEVENT
END:VCALENDAR